BEGIN:VCALENDAR
VERSION:2.0
PRODID:-//Compassionate Ottawa - ECPv6.15.20//NONSGML v1.0//EN
CALSCALE:GREGORIAN
METHOD:PUBLISH
X-ORIGINAL-URL:https://compassionateottawa.ca
X-WR-CALDESC:Events for Compassionate Ottawa
REFRESH-INTERVAL;VALUE=DURATION:PT1H
X-Robots-Tag:noindex
X-PUBLISHED-TTL:PT1H
BEGIN:VTIMEZONE
TZID:America/Toronto
BEGIN:DAYLIGHT
TZOFFSETFROM:-0500
TZOFFSETTO:-0400
TZNAME:EDT
DTSTART:20210314T070000
END:DAYLIGHT
BEGIN:STANDARD
TZOFFSETFROM:-0400
TZOFFSETTO:-0500
TZNAME:EST
DTSTART:20211107T060000
END:STANDARD
BEGIN:DAYLIGHT
TZOFFSETFROM:-0500
TZOFFSETTO:-0400
TZNAME:EDT
DTSTART:20220313T070000
END:DAYLIGHT
BEGIN:STANDARD
TZOFFSETFROM:-0400
TZOFFSETTO:-0500
TZNAME:EST
DTSTART:20221106T060000
END:STANDARD
BEGIN:DAYLIGHT
TZOFFSETFROM:-0500
TZOFFSETTO:-0400
TZNAME:EDT
DTSTART:20230312T070000
END:DAYLIGHT
BEGIN:STANDARD
TZOFFSETFROM:-0400
TZOFFSETTO:-0500
TZNAME:EST
DTSTART:20231105T060000
END:STANDARD
END:VTIMEZONE
BEGIN:VEVENT
DTSTART;TZID=America/Toronto:20220202T190000
DTEND;TZID=America/Toronto:20220202T203000
DTSTAMP:20260419T154102
CREATED:20220126T150644Z
LAST-MODIFIED:20220126T151055Z
UID:4574-1643828400-1643833800@compassionateottawa.ca
SUMMARY:Grief and Bereavement Workshop Series (Session 1 of 2)
DESCRIPTION:In support of the work of the HELP Ottawa Project through Orleans United Church (OUC)\, OUC members are invited to join a two-part workshop series on the topic of grief and bereavement. In the first session\, they will be guided through an interactive session by trained facilitators to increase their knowledge and comfort on the topic of grief and loss. They will also be provided with tools and techniques to have conversations with those around them experiencing grief to be able to better support them. \nThe second session will provide them an opportunity to explore and share their thoughts on this important subject matter in facilitated small group discussions. \nIf you are interested in organizing a workshop like this in your own community\, contact us today.
URL:https://compassionateottawa.ca/event/grief-and-bereavement-workshop-series/
LOCATION:Zoom – Private Event
CATEGORIES:Online,Private Event
ATTACH;FMTTYPE=image/jpeg:https://mlexcy8pajmr.i.optimole.com/w:auto/h:auto/q:mauto/process:4457/id:7076b8c8bba11f898e51d6ddd3840cfb/https://compassionateottawa.ca/iStock-684022240.jpg
ORGANIZER;CN="Compassionate Ottawa":MAILTO:info@compassionateottawa.ca
END:VEVENT
BEGIN:VEVENT
DTSTART;TZID=America/Toronto:20220209T130000
DTEND;TZID=America/Toronto:20220209T150000
DTSTAMP:20260419T154102
CREATED:20220126T151552Z
LAST-MODIFIED:20220203T153337Z
UID:4580-1644411600-1644418800@compassionateottawa.ca
SUMMARY:Into the Heart of the Matter: A Workshop on Grief and Bereavement
DESCRIPTION:Grief can be complicated and challenging. It is experienced by everyone\, regardless of age\, however many in our community still express that they are not comfortable addressing it. \nIn this workshop\, participants will be guided through an interactive session by trained facilitators to increase their knowledge and comfort on the topic. They will also be provided with tools and techniques to have conversations with those around them experiencing grief to be able to better support them\, which is especially important during these challenging times. \nTo organize a workshop like this in your community\, contact us now!
URL:https://compassionateottawa.ca/event/into-the-heart-of-the-matter-a-workshop-on-grief-and-bereavement-2/
LOCATION:Zoom – Partner Event
CATEGORIES:Online,Partner Event
ATTACH;FMTTYPE=image/jpeg:https://mlexcy8pajmr.i.optimole.com/w:auto/h:auto/q:mauto/process:4581/id:a372d40ebdef263361beada8f4002e69/https://compassionateottawa.ca/iStock-687128116-flip.jpg
ORGANIZER;CN="Compassionate Ottawa":MAILTO:info@compassionateottawa.ca
END:VEVENT
BEGIN:VEVENT
DTSTART;TZID=America/Toronto:20220210T190000
DTEND;TZID=America/Toronto:20220210T203000
DTSTAMP:20260419T154102
CREATED:20220126T151910Z
LAST-MODIFIED:20220203T153417Z
UID:4585-1644519600-1644525000@compassionateottawa.ca
SUMMARY:Conversations and Advance Care Planning Workshop
DESCRIPTION:Have you had the conversation?\n\n\n\nAdvance Care Planning conversations may be one of the most important conversation you will ever have. These conversations can help make sure that your wishes for your future personal health care are known and may bring peace of mind to you\, your family and those who may have to make decisions on your behalf.\n\n\n\nIn this workshop\, participants will be brought into facilitated group discussions about their values\, wishes and beliefs as they relate to future personal care\, and they will also learn how they can start these conversations with those closest to them.\n\nWant to organize a workshop like this in your community? Contact us now!
URL:https://compassionateottawa.ca/event/conversations-and-advance-care-planning-workshop-2/
LOCATION:Zoom – Partner Event
CATEGORIES:Online,Partner Event
ATTACH;FMTTYPE=image/jpeg:https://mlexcy8pajmr.i.optimole.com/w:auto/h:auto/q:mauto/process:4441/id:f566a9866080ed7b09b72f8b41b85f91/https://compassionateottawa.ca/iStock-1154453389.jpg
ORGANIZER;CN="Compassionate Ottawa":MAILTO:info@compassionateottawa.ca
END:VEVENT
BEGIN:VEVENT
DTSTART;TZID=America/Toronto:20220215T100000
DTEND;TZID=America/Toronto:20220215T113000
DTSTAMP:20260419T154102
CREATED:20220201T201320Z
LAST-MODIFIED:20220201T201320Z
UID:4602-1644919200-1644924600@compassionateottawa.ca
SUMMARY:Conversations with Leaders – A Conversation with André Picard
DESCRIPTION:This live virtual event will feature a conversation between André Picard\, one of Canada’s top health & public policy observers and commentators\, and Louise Hanvey\, Compassionate Ottawa Board Member. Together\, they will discuss André’s journey and approach to journalism; his thoughts on the community’s role in palliative care\, caregiving\, and home care; his suggestions for how public policies should be reshaped to better support Canadians; and more. There will be time for questions and comments following the discussion. \nRegister hereAndré Picard is a health reporter and columnist for The Globe and Mail\, where he has been a staff writer since 1987. He is also the author of five bestselling books\, including his most recent\, entitled\, “Neglected No More.” André is an eight-time nominee for the National Newspaper Awards\, Canada’s top journalism prize\, and past winner of prestigious Michener Award for Meritorious Public Service Journalism. He was named Canada’s first “Public Health Hero” by the Canadian Public Health Association\, as a “Champion of Mental Health” by the Canadian Alliance on Mental Illness and Mental Health\, and received the Queen Elizabeth II Diamond Jubilee Medal for his dedication to improving healthcare. \nLouise Hanvey\, RN\, BN\, MHA\, has worked with many national palliative care initiatives. She was the Project Director for the Advance Care Planning in Canada Project with the Canadian Hospice Palliative Care Association. As part of her responsibilities\, she launched the campaign “Speak Up: Start the conversation about end-of-life care.” As well\, Louise is a Board member of Compassionate Ottawa. \nThe first 500 registrants will be able to join the session via Zoom; others will be redirected to the live-stream on YouTube via the Compassionate Ottawa channel. A recording of the webinar will be posted on the Compassionate Ottawa YouTube channel after the session airs.
URL:https://compassionateottawa.ca/event/conversations-with-leaders-a-conversation-with-andre-picard/
LOCATION:Zoom Webinar – Open to public
CATEGORIES:Online,Open to Public
ATTACH;FMTTYPE=image/png:https://mlexcy8pajmr.i.optimole.com/w:auto/h:auto/q:mauto/process:4603/id:f92e99e0a3c7ccc3fb01fd29c085a5d0/https://compassionateottawa.ca/Small-Form.png
ORGANIZER;CN="Compassionate Ottawa":MAILTO:info@compassionateottawa.ca
END:VEVENT
BEGIN:VEVENT
DTSTART;TZID=America/Toronto:20220215T130000
DTEND;TZID=America/Toronto:20220215T140000
DTSTAMP:20260419T154102
CREATED:20220126T151022Z
LAST-MODIFIED:20220203T153515Z
UID:4577-1644930000-1644933600@compassionateottawa.ca
SUMMARY:Grief and Bereavement Workshop Series (Session 2 of 2)
DESCRIPTION:In support of the work of the HELP Ottawa Project through Orleans United Church (OUC)\, OUC members are invited to join a two-part workshop series on the topic of grief and bereavement. In the first session\, they were guided through an interactive session by trained facilitators to increase their knowledge and comfort on the topic of grief and loss. They were also provided with tools and techniques to have conversations with those around them experiencing grief to be able to better support them. \nThe second session will provide them an opportunity to explore and share their thoughts on this important subject matter in facilitated small group discussions. \nIf you are interested in organizing a workshop like this in your own community\, contact us today.
URL:https://compassionateottawa.ca/event/grief-and-bereavement-workshop-series-session-2-of-2-2/
LOCATION:Zoom – Partner Event
CATEGORIES:Online,Partner Event
ATTACH;FMTTYPE=image/jpeg:https://mlexcy8pajmr.i.optimole.com/w:auto/h:auto/q:mauto/process:4457/id:7076b8c8bba11f898e51d6ddd3840cfb/https://compassionateottawa.ca/iStock-684022240.jpg
ORGANIZER;CN="Compassionate Ottawa":MAILTO:info@compassionateottawa.ca
END:VEVENT
BEGIN:VEVENT
DTSTART;TZID=America/Toronto:20220223T100000
DTEND;TZID=America/Toronto:20220223T113000
DTSTAMP:20260419T154102
CREATED:20220126T152112Z
LAST-MODIFIED:20220203T153549Z
UID:4587-1645610400-1645615800@compassionateottawa.ca
SUMMARY:Conversations and Advance Care Planning Workshop
DESCRIPTION:Have you had the conversation?\n\n\n\nAdvance Care Planning conversations may be one of the most important conversation you will ever have. These conversations can help make sure that your wishes for your future personal health care are known and may bring peace of mind to you\, your family and those who may have to make decisions on your behalf.\n\n\n\nIn this workshop\, participants will be brought into facilitated group discussions about their values\, wishes and beliefs as they relate to future personal care\, and they will also learn how they can start these conversations with those closest to them.\n\nWant to organize a workshop like this in your community? Contact us now!
URL:https://compassionateottawa.ca/event/conversations-and-advance-care-planning-workshop-3/
LOCATION:Zoom – Partner Event
CATEGORIES:Online,Partner Event
ATTACH;FMTTYPE=image/jpeg:https://mlexcy8pajmr.i.optimole.com/w:auto/h:auto/q:mauto/process:4441/id:f566a9866080ed7b09b72f8b41b85f91/https://compassionateottawa.ca/iStock-1154453389.jpg
ORGANIZER;CN="Compassionate Ottawa":MAILTO:info@compassionateottawa.ca
END:VEVENT
END:VCALENDAR