BEGIN:VCALENDAR
VERSION:2.0
PRODID:-//Compassionate Ottawa - ECPv6.15.20//NONSGML v1.0//EN
CALSCALE:GREGORIAN
METHOD:PUBLISH
X-ORIGINAL-URL:https://compassionateottawa.ca
X-WR-CALDESC:Events for Compassionate Ottawa
REFRESH-INTERVAL;VALUE=DURATION:PT1H
X-Robots-Tag:noindex
X-PUBLISHED-TTL:PT1H
BEGIN:VTIMEZONE
TZID:America/Toronto
BEGIN:DAYLIGHT
TZOFFSETFROM:-0500
TZOFFSETTO:-0400
TZNAME:EDT
DTSTART:20230312T070000
END:DAYLIGHT
BEGIN:STANDARD
TZOFFSETFROM:-0400
TZOFFSETTO:-0500
TZNAME:EST
DTSTART:20231105T060000
END:STANDARD
BEGIN:DAYLIGHT
TZOFFSETFROM:-0500
TZOFFSETTO:-0400
TZNAME:EDT
DTSTART:20240310T070000
END:DAYLIGHT
BEGIN:STANDARD
TZOFFSETFROM:-0400
TZOFFSETTO:-0500
TZNAME:EST
DTSTART:20241103T060000
END:STANDARD
BEGIN:DAYLIGHT
TZOFFSETFROM:-0500
TZOFFSETTO:-0400
TZNAME:EDT
DTSTART:20250309T070000
END:DAYLIGHT
BEGIN:STANDARD
TZOFFSETFROM:-0400
TZOFFSETTO:-0500
TZNAME:EST
DTSTART:20251102T060000
END:STANDARD
END:VTIMEZONE
BEGIN:VEVENT
DTSTART;TZID=America/Toronto:20240530T100000
DTEND;TZID=America/Toronto:20240530T113000
DTSTAMP:20260420T060550
CREATED:20240511T212640Z
LAST-MODIFIED:20240511T214928Z
UID:6073-1717063200-1717068600@compassionateottawa.ca
SUMMARY:Advance Care Planning Workshop - Kanata Chinese Seniors
DESCRIPTION:Have you had the conversation?\n \n\n\n\nAdvance Care Planning conversations may be one of the most important conversation you will ever have. These conversations can help make sure that your wishes for your future personal health care are known and may bring peace of mind to you\, your family and those who may have to make decisions on your behalf.\n \n\n\n\nIn this workshop\, participants will be brought into facilitated group discussions about their values\, wishes and beliefs as they relate to future personal care\, and they will also learn how they can start these conversations with those closest to them.\n \n\nWant to organize a workshop like this in your community? Contact us now!\n \n\n\n** This workshop is offered with translation support
URL:https://compassionateottawa.ca/event/advance-care-planning-workshop-kanata-chinese-seniors/
LOCATION:S.S. #1 Community Centre\, 400 Goldridge Dr\, Kanata\, Ontario\, K2T 1A8\, Canada
CATEGORIES:In-Person,Open to Public
ATTACH;FMTTYPE=image/png:https://mlexcy8pajmr.i.optimole.com/w:auto/h:auto/q:mauto/process:5087/id:91e865905f6e7921deb3b3fea5581c19/https://compassionateottawa.ca/ACP-Photo.png
END:VEVENT
END:VCALENDAR