BEGIN:VCALENDAR
VERSION:2.0
PRODID:-//Compassionate Ottawa - ECPv6.15.20//NONSGML v1.0//EN
CALSCALE:GREGORIAN
METHOD:PUBLISH
X-WR-CALNAME:Compassionate Ottawa
X-ORIGINAL-URL:https://compassionateottawa.ca
X-WR-CALDESC:Events for Compassionate Ottawa
REFRESH-INTERVAL;VALUE=DURATION:PT1H
X-Robots-Tag:noindex
X-PUBLISHED-TTL:PT1H
BEGIN:VTIMEZONE
TZID:UTC
BEGIN:STANDARD
TZOFFSETFROM:+0000
TZOFFSETTO:+0000
TZNAME:UTC
DTSTART:20210101T000000
END:STANDARD
END:VTIMEZONE
BEGIN:VEVENT
DTSTART;TZID=UTC:20220426T100000
DTEND;TZID=UTC:20220426T111500
DTSTAMP:20260419T122532
CREATED:20220414T213434Z
LAST-MODIFIED:20220419T142456Z
UID:4743-1650967200-1650971700@compassionateottawa.ca
SUMMARY:Conversations avec des leaders – Au cœur du Passage: de l’accompagnement en fin de vie à la proche aidance
DESCRIPTION:Une conversation inspirante entre deux leaders! La plupart des gens sont mal à l’aise auprès des personnes mourantes et de leurs proches. Ils se demandent: Quoi faire? Quoi dire? Comment être? Myriam LaVoie et Lise Beauchemin s’entretiennent sur l’accompagnement en fin de vie et l’importance de prendre soin de soi\, même si cela semble impossible pour les personnes aidantes. Myriam et Lise comptent ensemble plus de 45 années d’expérience professionnelle en soins palliatifs pour adultes et pour enfants. Elles ont formé et accompagné de nombreuses équipes de bénévoles et de professionnels en Ontario et au Québec. Une période de questions suivra la conversation. \nInscrivez-vous iciMyriam LaVoie a plus de 35 ans d’expérience en soins palliatifs en tant qu’infirmière autorisée et gestionnaire de services bénévoles. Elle a complété sa maîtrise en sciences sociales à l’Université d’Ottawa. Elle partage ses connaissances et habiletés avec les bénévoles et les professionnelles qui œuvrent dans l’accompagnement en fin de vie. Son implication communautaire l’amène à Compassion Ottawa où elle collabore à l’élaboration des ateliers Le deuil et le chagrin. Myriam est auteure et écrivaine. Elle a publié: Au coeur du Passage: Amour\, espoir et réconciliation en fin de vie et When Death Knocks on Your Door: Care Partners in Oneness. \nLise Beauchemin est native de la ville d’Ottawa. Elle a est une fière franco-ontarienne qui a travaillé dans le domaine de la petite enfance comme éducatrice\, formatrice et bénévole pour la majorité de sa carrière. De plus\, elle a travaillé dans le domaine des soins palliatifs pédiatriques pour plus de 11 ans comme coordonnatrice de bénévoles. Lise partage sa vie avec son conjoint\, ses trois enfants et ses cinq petits-enfants. Elle est bénévole avec une maison de soins palliatifs et Compassion Ottawa. Pendant ses temps libres elle aime faire de la couture\, le vélo et le ski alpin.
URL:https://compassionateottawa.ca/event/conversations-avec-des-leaders-au-coeur-du-passage-de-laccompagnement-en-fin-de-vie-a-la-proche-aidance/
CATEGORIES:En ligne,Ouvert au public
ATTACH;FMTTYPE=image/png:https://mlexcy8pajmr.i.optimole.com/w:auto/h:auto/q:mauto/process:4744/id:5b100f620259a2ca261bc4e7522b6ca9/https://compassionateottawa.ca/header-convo-w_58455072.png
END:VEVENT
END:VCALENDAR