BEGIN:VCALENDAR
VERSION:2.0
PRODID:-//Compassionate Ottawa - ECPv6.15.20//NONSGML v1.0//EN
CALSCALE:GREGORIAN
METHOD:PUBLISH
X-ORIGINAL-URL:https://compassionateottawa.ca
X-WR-CALDESC:Events for Compassionate Ottawa
REFRESH-INTERVAL;VALUE=DURATION:PT1H
X-Robots-Tag:noindex
X-PUBLISHED-TTL:PT1H
BEGIN:VTIMEZONE
TZID:America/Toronto
BEGIN:DAYLIGHT
TZOFFSETFROM:-0500
TZOFFSETTO:-0400
TZNAME:EDT
DTSTART:20200308T070000
END:DAYLIGHT
BEGIN:STANDARD
TZOFFSETFROM:-0400
TZOFFSETTO:-0500
TZNAME:EST
DTSTART:20201101T060000
END:STANDARD
BEGIN:DAYLIGHT
TZOFFSETFROM:-0500
TZOFFSETTO:-0400
TZNAME:EDT
DTSTART:20210314T070000
END:DAYLIGHT
BEGIN:STANDARD
TZOFFSETFROM:-0400
TZOFFSETTO:-0500
TZNAME:EST
DTSTART:20211107T060000
END:STANDARD
BEGIN:DAYLIGHT
TZOFFSETFROM:-0500
TZOFFSETTO:-0400
TZNAME:EDT
DTSTART:20220313T070000
END:DAYLIGHT
BEGIN:STANDARD
TZOFFSETFROM:-0400
TZOFFSETTO:-0500
TZNAME:EST
DTSTART:20221106T060000
END:STANDARD
END:VTIMEZONE
BEGIN:VEVENT
DTSTART;TZID=America/Toronto:20211213T130000
DTEND;TZID=America/Toronto:20211213T143000
DTSTAMP:20260421T225302
CREATED:20211129T142423Z
LAST-MODIFIED:20211129T143119Z
UID:4494-1639400400-1639405800@compassionateottawa.ca
SUMMARY:Conversations and Advance Care Planning Workshop
DESCRIPTION:Have you had the conversation?\n\n \n\nAdvance Care Planning conversations may be one of the most important conversation you will ever have. These conversations can help make sure that your wishes for your future personal health care are known and may bring peace of mind to you\, your family and those who may have to make decisions on your behalf.\n\n \n\nJoin us on Monday\, December 13th from 1:00pm-2:30pm for a free online workshop to learn more about the Advance Care Planning process. In this workshop\, you will be brought into facilitated group discussions about your values\, wishes and beliefs as they relate to future personal care and you will also learn how you can start these conversations with those closest to you.\n\n \n\nPlease register using the Eventbrite link listed here:\nhttps://www.eventbrite.ca/e/conversations-and-advance-care-planning-tickets-217638742337?fbclid=IwAR1JEuQ1zfQXYLEk-EHyAhlsNwausE_oC8xx7rkM_wbKJ0FG19lH8QdnVxk
URL:https://compassionateottawa.ca/event/conversations-and-advance-care-planning-workshop/
LOCATION:Zoom – Open to public
CATEGORIES:Online,Open to Public
ATTACH;FMTTYPE=image/jpeg:https://mlexcy8pajmr.i.optimole.com/w:auto/h:auto/q:mauto/process:3657/id:11b671a7df10eec4e1fd9b8d06011a51/https://compassionateottawa.ca/iStock-924108146-flip.jpg
END:VEVENT
END:VCALENDAR