BEGIN:VCALENDAR
VERSION:2.0
PRODID:-//Compassionate Ottawa - ECPv6.15.20//NONSGML v1.0//EN
CALSCALE:GREGORIAN
METHOD:PUBLISH
X-WR-CALNAME:Compassionate Ottawa
X-ORIGINAL-URL:https://compassionateottawa.ca
X-WR-CALDESC:Events for Compassionate Ottawa
REFRESH-INTERVAL;VALUE=DURATION:PT1H
X-Robots-Tag:noindex
X-PUBLISHED-TTL:PT1H
BEGIN:VTIMEZONE
TZID:America/Toronto
BEGIN:DAYLIGHT
TZOFFSETFROM:-0500
TZOFFSETTO:-0400
TZNAME:EDT
DTSTART:20200308T070000
END:DAYLIGHT
BEGIN:STANDARD
TZOFFSETFROM:-0400
TZOFFSETTO:-0500
TZNAME:EST
DTSTART:20201101T060000
END:STANDARD
BEGIN:DAYLIGHT
TZOFFSETFROM:-0500
TZOFFSETTO:-0400
TZNAME:EDT
DTSTART:20210314T070000
END:DAYLIGHT
BEGIN:STANDARD
TZOFFSETFROM:-0400
TZOFFSETTO:-0500
TZNAME:EST
DTSTART:20211107T060000
END:STANDARD
BEGIN:DAYLIGHT
TZOFFSETFROM:-0500
TZOFFSETTO:-0400
TZNAME:EDT
DTSTART:20220313T070000
END:DAYLIGHT
BEGIN:STANDARD
TZOFFSETFROM:-0400
TZOFFSETTO:-0500
TZNAME:EST
DTSTART:20221106T060000
END:STANDARD
END:VTIMEZONE
BEGIN:VEVENT
DTSTART;TZID=America/Toronto:20211117T133000
DTEND;TZID=America/Toronto:20211117T150000
DTSTAMP:20260422T002319
CREATED:20210924T200441Z
LAST-MODIFIED:20211101T190124Z
UID:4188-1637155800-1637161200@compassionateottawa.ca
SUMMARY:Conversations & Advance Care Planning Workshop
DESCRIPTION:In this online workshop\, participants will be invited into a conversation and facilitated group discussions about their values\, wishes and beliefs for personal future health care. These conversations may be among the most important that they will ever have and are are also an integral part of advance care planning. Planning today makes sure that your wishes are known and may bring peace of mind to you\, your family and those who may have to make decisions on your behalf. \nIf you are interested in organizing a workshop like this in your own community\, contact us today.
URL:https://compassionateottawa.ca/event/conversations-advance-care-planning-workshop/
LOCATION:Zoom – Private Event
CATEGORIES:Online,Private Event
ATTACH;FMTTYPE=image/jpeg:https://mlexcy8pajmr.i.optimole.com/w:auto/h:auto/q:mauto/process:3623/id:f95597a003c89ca537767185346c2417/https://compassionateottawa.ca/iStock-1029343914.jpg
ORGANIZER;CN="Compassionate Ottawa":MAILTO:info@compassionateottawa.ca
END:VEVENT
END:VCALENDAR