BEGIN:VCALENDAR
VERSION:2.0
PRODID:-//Compassionate Ottawa - ECPv6.15.20//NONSGML v1.0//EN
CALSCALE:GREGORIAN
METHOD:PUBLISH
X-ORIGINAL-URL:https://compassionateottawa.ca
X-WR-CALDESC:Events for Compassionate Ottawa
REFRESH-INTERVAL;VALUE=DURATION:PT1H
X-Robots-Tag:noindex
X-PUBLISHED-TTL:PT1H
BEGIN:VTIMEZONE
TZID:America/Toronto
BEGIN:DAYLIGHT
TZOFFSETFROM:-0500
TZOFFSETTO:-0400
TZNAME:EDT
DTSTART:20200308T070000
END:DAYLIGHT
BEGIN:STANDARD
TZOFFSETFROM:-0400
TZOFFSETTO:-0500
TZNAME:EST
DTSTART:20201101T060000
END:STANDARD
BEGIN:DAYLIGHT
TZOFFSETFROM:-0500
TZOFFSETTO:-0400
TZNAME:EDT
DTSTART:20210314T070000
END:DAYLIGHT
BEGIN:STANDARD
TZOFFSETFROM:-0400
TZOFFSETTO:-0500
TZNAME:EST
DTSTART:20211107T060000
END:STANDARD
BEGIN:DAYLIGHT
TZOFFSETFROM:-0500
TZOFFSETTO:-0400
TZNAME:EDT
DTSTART:20220313T070000
END:DAYLIGHT
BEGIN:STANDARD
TZOFFSETFROM:-0400
TZOFFSETTO:-0500
TZNAME:EST
DTSTART:20221106T060000
END:STANDARD
END:VTIMEZONE
BEGIN:VEVENT
DTSTART;TZID=America/Toronto:20211110T130000
DTEND;TZID=America/Toronto:20211110T143000
DTSTAMP:20260422T002559
CREATED:20211101T192757Z
LAST-MODIFIED:20211101T192757Z
UID:4465-1636549200-1636554600@compassionateottawa.ca
SUMMARY:Atelier sur le chagrin et le deuil
DESCRIPTION:Le deuil est un processus complexe et parfois difficile. Le deuil est vécu par tout le monde\, quel que soit leur âge mais la majorité des gens disent qu’ils sont généralement mal à l’aise d’en parler. \nDans cet atelier\, vous apprendrez à devenir plus confortables vis-à-vis le deuil grâce à une meilleure compréhension de ce qu’est le deuil et de comment accompagner une personne en deuil. Nous espérons diviser le deuil en différents éléments qui le rendront plus simple à comprendre\, et vous offrir des outils et des techniques que vous pourrez commencer à utiliser. Nous voulons aussi vous offrir de l’espoir. \nPour organiser un atelier comme celui-ci dans votre communauté\, contactez-nous !
URL:https://compassionateottawa.ca/event/atelier-sur-le-chagrin-et-le-deuil/
LOCATION:Zoom – Événement privé
CATEGORIES:En ligne,Événement privé
ATTACH;FMTTYPE=image/jpeg:https://mlexcy8pajmr.i.optimole.com/w:auto/h:auto/q:mauto/process:4457/id:7076b8c8bba11f898e51d6ddd3840cfb/https://compassionateottawa.ca/iStock-684022240.jpg
END:VEVENT
END:VCALENDAR